BEGIN:VCALENDAR
VERSION:2.0
PRODID:-//OAP FAE Burgos - ECPv6.15.20//NONSGML v1.0//EN
CALSCALE:GREGORIAN
METHOD:PUBLISH
X-WR-CALNAME:OAP FAE Burgos
X-ORIGINAL-URL:https://acelerapymedigital.es
X-WR-CALDESC:Eventos para OAP FAE Burgos
REFRESH-INTERVAL;VALUE=DURATION:PT1H
X-Robots-Tag:noindex
X-PUBLISHED-TTL:PT1H
BEGIN:VTIMEZONE
TZID:Europe/Madrid
BEGIN:DAYLIGHT
TZOFFSETFROM:+0100
TZOFFSETTO:+0200
TZNAME:CEST
DTSTART:20250330T010000
END:DAYLIGHT
BEGIN:STANDARD
TZOFFSETFROM:+0200
TZOFFSETTO:+0100
TZNAME:CET
DTSTART:20251026T010000
END:STANDARD
BEGIN:DAYLIGHT
TZOFFSETFROM:+0100
TZOFFSETTO:+0200
TZNAME:CEST
DTSTART:20260329T010000
END:DAYLIGHT
BEGIN:STANDARD
TZOFFSETFROM:+0200
TZOFFSETTO:+0100
TZNAME:CET
DTSTART:20261025T010000
END:STANDARD
BEGIN:DAYLIGHT
TZOFFSETFROM:+0100
TZOFFSETTO:+0200
TZNAME:CEST
DTSTART:20270328T010000
END:DAYLIGHT
BEGIN:STANDARD
TZOFFSETFROM:+0200
TZOFFSETTO:+0100
TZNAME:CET
DTSTART:20271031T010000
END:STANDARD
END:VTIMEZONE
BEGIN:VEVENT
DTSTART;TZID=Europe/Madrid:20260211T100000
DTEND;TZID=Europe/Madrid:20260211T123000
DTSTAMP:20260423T121333
CREATED:20260204T213635Z
LAST-MODIFIED:20260216T175552Z
UID:9685-1770804000-1770813000@acelerapymedigital.es
SUMMARY:Taller Microsoft 365 y Zoho One: ahorra tiempo y conecta equipos
DESCRIPTION:Realizada ya la jornada\, te dejamos aquí la presentación para que puedas revisar sus contenidos. \nY si tienes cualquier duda\, no olvides que puedes contactar con la Oficina Acelera Pyme de FAE escribiéndonos a oap@faeburgos.org\, llamándonos al 947 266 142 o visitándonos en la Casa del Empresario\, plaza Castilla\, 1 Burgos. \nEl trabajo ya no depende de un único espacio físico. Equipos en remoto\, documentos compartidos y comunicación continua forman parte del día a día de pymes\, autónomos y emprendedores. En este escenario\, gestionar la empresa mediante una oficina virtual clara y bien organizada es una decisión estratégica\, no solo tecnológica. \n💡Este modelo de trabajo permite:\n• Centralizar documentos\, comunicación y trabajo en equipo.\n• Facilitar el trabajo remoto e híbrido sin perder control.\n• Mejorar la colaboración y la productividad.\n• Reforzar la seguridad de la información.\n• Reducir costes al evitar múltiples herramientas independientes.\n• Trabajar con movilidad total desde móvil o tablet.\n• Mantener una visión global del negocio\, incluso en remoto. \n👉 En este taller se explicará\, de forma práctica y sencilla\, cómo funciona una oficina virtual bien estructurada a través de dos ecosistemas digitales: Microsoft 365\, una solución consolidada\, y Zoho One\, una plataforma innovadora e integrada.\n________________________________________\nMicrosoft 365: es más que Word\, Excel y PowerPoint\, es un ecosistema conectado:\n• Guardar y compartir documentos en la nube (OneDrive y SharePoint).\n• Acceder a la información desde cualquier dispositivo.\n• Trabajar sobre los mismos documentos en tiempo real.\n• Centralizar la comunicación con Outlook y Teams.\n• Trabajar siempre con versiones actualizadas.\n• Mejorar la productividad y la coordinación del equipo.\n• Proteger la información de forma segura.\n________________________________________\nZoho One: todo el negocio en una sola plataforma\, diversidad de aplicaciones para que todas las áreas del negocio trabajen sobre la misma información:\n• Comunicación interna y reuniones con Zoho Cliq y Zoho Meeting.\n• Colaboración y productividad con Writer\, Sheet y Show.\n• Gestión documental con Zoho WorkDrive.\n• Relación con clientes y comunicación externa con Forms\, Survey y Backstage.\n• Gestión de redes sociales desde una única herramienta con Zoho Social.\n• Control de accesos y seguridad desde el panel central de Zoho One.\n• Automatización de procesos con Zoho Flow. \n⏩ Durante el taller se mostrarán ejemplos prácticos y reales\, explicando cómo empezar por lo esencial y sacar partido a estas herramientas sin complicaciones ni conocimientos técnicos. \n\n10:00h Bienvenida y apertura de la jornada\n▸Marcos Nieto – Técnico OAP FAE BURGOS \n\n10:10h Oficina en la nube: OneDrive\, SharePoint y almacenamiento seguro\n▸Pedro Sañudo– Ingeniero informático de CTME\n▸Víctor Castellanos y Natalia Eguíluz – Técnicos de innovación de CTME \n\n10:35h Comunicación empresarial con Teams y Outlook\n▸Víctor Castellanos y Natalia Eguíluz – Técnicos de innovación de CTME \n\n11:00h Espacio de trabajo virtual seguro y práctico\n▸Pedro Sañudo– Ingeniero informático de CTME\n▸Víctor Castellanos y Natalia Eguíluz – Técnicos de innovación de CTME \n\n11:20h Caso de éxito: Implemantación de Microsoft 365 en CTME\n▸Pedro Sañudo– Ingeniero informático de CTME\n▸Víctor Castellanos y Natalia Eguíluz – Técnicos de innovación de CTME \n\n11:30h Zoho One: una plataforma única para centralizar procesos empresariales\n▸Marcos Nieto – Oficina Acelera Pyme FAE BURGOS \n• Aplicaciones de productividad y gestión documental – Zoho Workdrive.\n• Comunicación y colaboración – Zoho Cliq\, Zoho Mail\, Zoho Meeting.\n• Relación con clientes – Zoho Forms\, Survey y Backstage.\n• Automatización de flujos de tareas – Zoho Flow.\n• Gestión de redes sociales – Zoho Social.\n• Seguridad y permisos panel – Zoho One. \n\n12:20h Dudas y preguntas
URL:https://acelerapymedigital.es/evento/taller-microsoft-365-y-zoho-one-ahorra-tiempo-y-conecta-equipos
LOCATION:FAE Burgos\, Plaza Castilla\, 1\,\, Burgos\, Castilla y León\, 09003
ATTACH;FMTTYPE=image/jpeg:https://acelerapymedigital.es/wp-content/uploads/2026/02/Foto-taller-1.jpg
ORGANIZER;CN="OAP FAE Burgos":MAILTO:oap@faeburgos.org
END:VEVENT
END:VCALENDAR