BEGIN:VCALENDAR
VERSION:2.0
PRODID:-//OAP FAE Burgos - ECPv6.15.20//NONSGML v1.0//EN
CALSCALE:GREGORIAN
METHOD:PUBLISH
X-WR-CALNAME:OAP FAE Burgos
X-ORIGINAL-URL:https://acelerapymedigital.es
X-WR-CALDESC:Eventos para OAP FAE Burgos
REFRESH-INTERVAL;VALUE=DURATION:PT1H
X-Robots-Tag:noindex
X-PUBLISHED-TTL:PT1H
BEGIN:VTIMEZONE
TZID:Europe/Madrid
BEGIN:DAYLIGHT
TZOFFSETFROM:+0100
TZOFFSETTO:+0200
TZNAME:CEST
DTSTART:20250330T010000
END:DAYLIGHT
BEGIN:STANDARD
TZOFFSETFROM:+0200
TZOFFSETTO:+0100
TZNAME:CET
DTSTART:20251026T010000
END:STANDARD
BEGIN:DAYLIGHT
TZOFFSETFROM:+0100
TZOFFSETTO:+0200
TZNAME:CEST
DTSTART:20260329T010000
END:DAYLIGHT
BEGIN:STANDARD
TZOFFSETFROM:+0200
TZOFFSETTO:+0100
TZNAME:CET
DTSTART:20261025T010000
END:STANDARD
BEGIN:DAYLIGHT
TZOFFSETFROM:+0100
TZOFFSETTO:+0200
TZNAME:CEST
DTSTART:20270328T010000
END:DAYLIGHT
BEGIN:STANDARD
TZOFFSETFROM:+0200
TZOFFSETTO:+0100
TZNAME:CET
DTSTART:20271031T010000
END:STANDARD
END:VTIMEZONE
BEGIN:VEVENT
DTSTART;TZID=Europe/Madrid:20260325T100000
DTEND;TZID=Europe/Madrid:20260325T123000
DTSTAMP:20260423T135102
CREATED:20260311T090904Z
LAST-MODIFIED:20260327T120041Z
UID:9820-1774432800-1774441800@acelerapymedigital.es
SUMMARY:Notebook LM para tu negocio: aprende a usar la IA gratuita de Google
DESCRIPTION:Realizada ya la jornada\, te dejamos aquí la presentación para que puedas revisar sus contenidos. \nY si tienes cualquier duda\, no olvides que puedes contactar con la Oficina Acelera Pyme de FAE escribiéndonos a oap@faeburgos.org\, llamándonos al 947 266 142 o visitándonos en la Casa del Empresario\, plaza Castilla\, 1 Burgos. \n📲 NotebookLM es la IA gratuita de Google que te permite trabajar de una forma mucho más ordenada\, práctica y útil con la información de tu negocio: tablas\, informes\, documentos\, datos y otros materiales que utilizas en el día a día. Al subir esa documentación\, la herramienta te ayuda a ponerla en contexto y a convertirla en materiales de valor\, como informes\, esquemas\, presentaciones o contenidos de apoyo elaborados a partir de tus propias fuentes. \n📚 Durante el taller se explicarán las claves básicas para empezar a utilizar NotebookLM con criterio: cómo es su interfaz\, cómo crear cuadernos y cómo seleccionar bien las fuentes con las que vamos a trabajar. A partir de ahí\, se mostrarán algunas de sus funciones más útiles para generar esquemas\, resúmenes\, presentaciones\, audios tipo podcast\, vídeos y otros materiales de apoyo. \n⏩ La jornada incluirá además una parte práctica centrada en ejemplos y casos de uso aplicados a negocio. La idea es que cada asistente no solo conozca la herramienta\, sino que pueda verla en funcionamiento en situaciones cercanas y reconocer posibilidades reales para su propia actividad. \n\n10:00h Bienvenida\n▸Marcos Nieto – Técnico OAP FAE BURGOS \n\n10:10h Cómo empezar a utilizar Notebook LM\n▸ Víctor Castellanos y Natalia Eguíluz – Técnicos de innovación de CTME \n\n10:30h Conoce la herramienta: interfaz\, creación de cuadernos y selección de fuentes\n▸ Víctor Castellanos y Natalia Eguíluz – Técnicos de innovación de CTME \n\n11:00h Notebook LM Studio: crea esquemas\, podcast\, vídeos\, etc\n▸ Víctor Castellanos y Natalia Eguíluz – Técnicos de innovación de CTME \n\n11:40h Taller de casos de uso y creación de contenidos útiles (adaptado a los negocios participantes)\n▸ Víctor Castellanos y Natalia Eguíluz – Técnicos de innovación de CTME \n\n12:20h Cierre de la jornada y preguntas
URL:https://acelerapymedigital.es/evento/notebook-lm-para-tu-negocio-aprende-a-usar-la-ia-gratuita-de-google
LOCATION:FAE Miranda\, Avda. Comuneros de Castilla\, 4 - Ofi. D\, Miranda de Ebro\, Burgos\, Castilla y León\, 09200
ATTACH;FMTTYPE=image/jpeg:https://acelerapymedigital.es/wp-content/uploads/2026/03/OAP-3-Post-Web-4.jpg
ORGANIZER;CN="OAP FAE Burgos":MAILTO:oap@faeburgos.org
END:VEVENT
END:VCALENDAR