BEGIN:VCALENDAR
VERSION:2.0
PRODID:-//OAP FAE Burgos - ECPv6.15.20//NONSGML v1.0//EN
CALSCALE:GREGORIAN
METHOD:PUBLISH
X-WR-CALNAME:OAP FAE Burgos
X-ORIGINAL-URL:https://acelerapymedigital.es
X-WR-CALDESC:Eventos para OAP FAE Burgos
REFRESH-INTERVAL;VALUE=DURATION:PT1H
X-Robots-Tag:noindex
X-PUBLISHED-TTL:PT1H
BEGIN:VTIMEZONE
TZID:Europe/Madrid
BEGIN:DAYLIGHT
TZOFFSETFROM:+0100
TZOFFSETTO:+0200
TZNAME:CEST
DTSTART:20250330T010000
END:DAYLIGHT
BEGIN:STANDARD
TZOFFSETFROM:+0200
TZOFFSETTO:+0100
TZNAME:CET
DTSTART:20251026T010000
END:STANDARD
BEGIN:DAYLIGHT
TZOFFSETFROM:+0100
TZOFFSETTO:+0200
TZNAME:CEST
DTSTART:20260329T010000
END:DAYLIGHT
BEGIN:STANDARD
TZOFFSETFROM:+0200
TZOFFSETTO:+0100
TZNAME:CET
DTSTART:20261025T010000
END:STANDARD
BEGIN:DAYLIGHT
TZOFFSETFROM:+0100
TZOFFSETTO:+0200
TZNAME:CEST
DTSTART:20270328T010000
END:DAYLIGHT
BEGIN:STANDARD
TZOFFSETFROM:+0200
TZOFFSETTO:+0100
TZNAME:CET
DTSTART:20271031T010000
END:STANDARD
END:VTIMEZONE
BEGIN:VEVENT
DTSTART;TZID=Europe/Madrid:20260311T093000
DTEND;TZID=Europe/Madrid:20260311T110000
DTSTAMP:20260421T104328
CREATED:20260225T090610Z
LAST-MODIFIED:20260313T135722Z
UID:9742-1773221400-1773226800@acelerapymedigital.es
SUMMARY:Descubre como humanizar tu negocio en la era de la IA
DESCRIPTION:Realizada ya la jornada\, te dejamos aquí la grabación para que puedas revisar sus contenidos. \nY si tienes cualquier duda\, no olvides que puedes contactar con la Oficina Acelera Pyme de FAE escribiéndonos a oap@faeburgos.org\, llamándonos al 947 266 142 o visitándonos en la Casa del Empresario\, plaza Castilla\, 1 Burgos. \n  \n🤖¿Usas la IA en tu negocio… pero notas que tu marca empieza a sonar como todas las demás? La inteligencia artificial puede ser una gran aliada: te ayuda a crear más rápido\, automatizar tareas y ahorrar tiempo. Pero también tiene un riesgo: que tu comunicación pierda alma. \n💡 Hoy no basta con publicar o estar en redes. En un entorno digital lleno de mensajes\, lo que realmente marca la diferencia es cómo suenas\, cómo conectas y qué haces sentir. \nPorque las marcas que dejan huella no son las que más contenido generan\, sino las que comunican con una voz propia\, auténtica y humana. \n🎯 En este webinar descubrirás:\n• Qué está cambiando en el entorno digital con la automatización y la IA\n• Qué significa realmente “humanizar” una marca y por qué impacta en el negocio\n• Cómo integrar la IA en tu comunicación sin diluir tu identidad de marca\n• Claves para diferenciarte y conectar mejor con tu audiencia en redes y canales digitales \nUn webinar práctico con un objetivo muy claro: ayudarte a aprovechar la IA sin perder lo que hace única a tu marca.\n\n👉 Si quieres comunicar mejor\, diferenciarte y construir una marca más auténtica en la era de la IA\, inscríbete en este webinar gratuito. \n\n09:30 – Bienvenida a los asistentes OAP de FAE\nMarcos Nieto – Oficina Acelera Pyme FAE BURGOS \n\n09:45 – El nuevo tablero de juego: abundancia\, automatización y homogeneización\nLeticia B. Díaz – Copywriter y estratega digital\nNatalia Eguíluz – Técnico de Innovación de CTME \n\n10:00 – Qué significa realmente humanizar una marca (y por qué impacta en negocio)\nLeticia B. Díaz – Copywriter y estratega digital \n\n10:25– Cómo integrar la IA sin diluir tu marca\nLeticia B. Díaz – Copywriter y estratega digital \n\n10:50 – Cierre de la jornada y preguntas
URL:https://acelerapymedigital.es/evento/descubre-como-humanizar-tu-negocio-en-la-era-de-la-ia
LOCATION:Castilla y León
ATTACH;FMTTYPE=image/jpeg:https://acelerapymedigital.es/wp-content/uploads/2026/02/OAP-3-Post-Webinar-05.02.2026-1.jpg
ORGANIZER;CN="OAP FAE Burgos":MAILTO:oap@faeburgos.org
END:VEVENT
BEGIN:VEVENT
DTSTART;TZID=Europe/Madrid:20260318T100000
DTEND;TZID=Europe/Madrid:20260318T123000
DTSTAMP:20260421T104328
CREATED:20260306T084642Z
LAST-MODIFIED:20260319T113437Z
UID:9777-1773828000-1773837000@acelerapymedigital.es
SUMMARY:Mejora la visibilidad de tu negocio con Google Maps y WhatsApp Business
DESCRIPTION:Realizada ya la jornada\, te dejamos aquí la presentación para que puedas revisar sus contenidos. \nY si tienes cualquier duda\, no olvides que puedes contactar con la Oficina Acelera Pyme de FAE escribiéndonos a oap@faeburgos.org\, llamándonos al 947 266 142 o visitándonos en la Casa del Empresario\, plaza Castilla\, 1 Burgos. \n📍Muchas personas buscan en Google antes de decidir a qué establecimiento acudir\, a quién llamar o con qué empresa contactar. \nPor eso\, hoy no basta con “estar” en internet: hay que aparecer “bien”\, transmitir confianza y facilitar el contacto de forma cercana y rápida. \n📚 Este taller te ayudará a conseguirlo de forma práctica y útil para el día a día. Veremos cómo mejorar tu presencia en Google Maps\, qué elementos hacen que un perfil destaque frente a otros y cómo WhatsApp Business puede ayudarte a comunicarte mejor\, responder con más agilidad y no dejar escapar oportunidades. \nDurante la sesión veremos:\n• Cómo optimizar tu presencia en Google Maps para aparecer mejor y generar confianza\n• Qué elementos hacen que un perfil destaque\, como las fotos\, la información clave o las reseñas\n• Cómo usar WhatsApp Business para responder más rápido\, organizar mejor la comunicación y mejorar la atención al cliente \nAdemás\, abordaremos errores habituales\, buenas prácticas y ejemplos reales para que puedas aplicar mejoras concretas en tu propio negocio desde el primer momento. \nUna sesión pensada para negocios y emprendedores del medio rural que quieran reforzar su presencia online\, atraer más clientes y proyectar una imagen más cercana\, profesional y competitiva. \n\n10:00h Bienvenida\n▸Marcos Nieto – Técnico OAP FAE BURGOS \n\n10:10h ¿Por qué es importante ser visible y posicionar tu negocio en internet?\n▸Víctor Castellanos y Natalia Eguíluz – Técnicos de innovación de CTME \n\n10:25h Adapta tu perfil de Google Maps para destacar y atraer clientes locales\n▸Víctor Castellanos y Natalia Eguíluz – Técnicos de innovación de CTME \n\n11:00h WhatsApp Business: comunícate con tus clientes de forma rápida y profesional\n▸Víctor Castellanos y Natalia Eguíluz – Técnicos de innovación de CTME \n\n11:45h Taller práctico: Análisis de ejemplos reales\, errores típicos y recomendaciones\n▸Víctor Castellanos y Natalia Eguíluz – Técnicos de innovación de CTME \n\n12:20h Cierre de la jornada y preguntas
URL:https://acelerapymedigital.es/evento/mejora-la-visibilidad-de-tu-negocio-con-ejemplos-reales-google-maps-y-whatsapp-business
LOCATION:Casa de la cultura de Briviesca\, C. Marqués de Torresoto\, 8\, Briviesca\, 09240\, Spain
ATTACH;FMTTYPE=image/jpeg:https://acelerapymedigital.es/wp-content/uploads/2026/03/OAP-3-Post-Web.jpg
ORGANIZER;CN="OAP FAE Burgos":MAILTO:oap@faeburgos.org
END:VEVENT
BEGIN:VEVENT
DTSTART;TZID=Europe/Madrid:20260319T103000
DTEND;TZID=Europe/Madrid:20260319T130000
DTSTAMP:20260421T104328
CREATED:20260306T090651Z
LAST-MODIFIED:20260327T120026Z
UID:9780-1773916200-1773925200@acelerapymedigital.es
SUMMARY:Notebook LM para tu negocio de lo inicial a lo profesional
DESCRIPTION:Realizada ya la jornada\, te dejamos aquí la presentación para que puedas revisar sus contenidos. \nY si tienes cualquier duda\, no olvides que puedes contactar con la Oficina Acelera Pyme de FAE escribiéndonos a oap@faeburgos.org\, llamándonos al 947 266 142 o visitándonos en la Casa del Empresario\, plaza Castilla\, 1 Burgos. \n🤖 Notebook LM abre nuevas posibilidades para pymes\, autónomos y emprendedores que trabajan a diario con documentación\, informes\, ideas\, propuestas o información dispersa en distintas fuentes. Esta herramienta permite resumir contenidos\, organizar información\, analizar documentos y convertir todo ese material en recursos útiles para el trabajo diario de una forma mucho más rápida y práctica. \nCon este enfoque se ha planteado esta jornada formativa\, que se desarrollará en colaboración con Iacta Studio\, empresa especializada en estrategia\, cumplimiento normativo y formación en inteligencia artificial aplicada al entorno empresarial. \n👉A lo largo de la sesión\, las personas asistentes podrán conocer desde una perspectiva práctica qué es Notebook LM\, cómo es su interfaz\, cómo dar los primeros pasos y de qué manera crear cuadernos de trabajo útiles a partir de distintas fuentes de información. \nTambién se abordarán cuestiones clave como la privacidad\, el tratamiento de datos sensibles y los criterios básicos de seguridad que conviene tener en cuenta al trabajar con herramientas de inteligencia artificial en el ámbito profesional. 💻 \n✅ Además\, se mostrarán funcionalidades más avanzadas\, como la investigación y análisis de fuentes\, así como la generación de entregables profesionales en diferentes formatos\, como informes\, presentaciones\, audio o vídeo. La jornada se completará con una aproximación a Google IA Studio\, incluyendo herramientas de creación visual como Nanobanana. \nDe este modo\, los asistentes no solo conocerán el potencial de Notebook LM\, sino también el contexto en el que conviene utilizarlo. \n\n10:30h Bienvenida a los asistentes\n▸Marcos Nieto – Técnico OAP FAE BURGOS \n\n10:40h Privacidad y datos sensibles: criterios básicos de seguridad en IA\n▸ Javier Gutiérrez y Claudia Taracena – Iacta Studio \n\n10:55h ¿Qué es Notebook LM? Interfaz y primeros pasos\n▸ Javier Gutiérrez y Claudia Taracena – Iacta Studio \n\n11:15h Cómo crear cuadernos y seleccionar fuentes\n▸ Javier Gutiérrez y Claudia Taracena – Iacta Studio \n\n11:40h Investigación avanzada (Deep Research) y análisis de fuentes\n▸ Javier Gutiérrez y Claudia Taracena – Iacta Studio \n\n12:05h Entregables profesionales (audio\, vídeo\, informes\, presentaciones…..)\n▸ Javier Gutiérrez y Claudia Taracena – Iacta Studio \n\n12:40h Google IA Studio (Nanobanana creador de imágenes)\n▸ Javier Gutiérrez y Claudia Taracena – Iacta Studio \n\n12:50h Cierre de la jornada y preguntas
URL:https://acelerapymedigital.es/evento/notebook-lm-para-tu-negocio-de-lo-inicial-a-lo-profesional
LOCATION:FAE Asemar\, Plaza San Esteban\, 3\, Aranda de Duero\, Castilla y León\, 09400\, España
ATTACH;FMTTYPE=image/jpeg:https://acelerapymedigital.es/wp-content/uploads/2026/03/OAP-3-Post-Web-1.jpg
ORGANIZER;CN="OAP FAE Burgos":MAILTO:oap@faeburgos.org
END:VEVENT
BEGIN:VEVENT
DTSTART;TZID=Europe/Madrid:20260325T100000
DTEND;TZID=Europe/Madrid:20260325T123000
DTSTAMP:20260421T104328
CREATED:20260311T090904Z
LAST-MODIFIED:20260327T120041Z
UID:9820-1774432800-1774441800@acelerapymedigital.es
SUMMARY:Notebook LM para tu negocio: aprende a usar la IA gratuita de Google
DESCRIPTION:Realizada ya la jornada\, te dejamos aquí la presentación para que puedas revisar sus contenidos. \nY si tienes cualquier duda\, no olvides que puedes contactar con la Oficina Acelera Pyme de FAE escribiéndonos a oap@faeburgos.org\, llamándonos al 947 266 142 o visitándonos en la Casa del Empresario\, plaza Castilla\, 1 Burgos. \n📲 NotebookLM es la IA gratuita de Google que te permite trabajar de una forma mucho más ordenada\, práctica y útil con la información de tu negocio: tablas\, informes\, documentos\, datos y otros materiales que utilizas en el día a día. Al subir esa documentación\, la herramienta te ayuda a ponerla en contexto y a convertirla en materiales de valor\, como informes\, esquemas\, presentaciones o contenidos de apoyo elaborados a partir de tus propias fuentes. \n📚 Durante el taller se explicarán las claves básicas para empezar a utilizar NotebookLM con criterio: cómo es su interfaz\, cómo crear cuadernos y cómo seleccionar bien las fuentes con las que vamos a trabajar. A partir de ahí\, se mostrarán algunas de sus funciones más útiles para generar esquemas\, resúmenes\, presentaciones\, audios tipo podcast\, vídeos y otros materiales de apoyo. \n⏩ La jornada incluirá además una parte práctica centrada en ejemplos y casos de uso aplicados a negocio. La idea es que cada asistente no solo conozca la herramienta\, sino que pueda verla en funcionamiento en situaciones cercanas y reconocer posibilidades reales para su propia actividad. \n\n10:00h Bienvenida\n▸Marcos Nieto – Técnico OAP FAE BURGOS \n\n10:10h Cómo empezar a utilizar Notebook LM\n▸ Víctor Castellanos y Natalia Eguíluz – Técnicos de innovación de CTME \n\n10:30h Conoce la herramienta: interfaz\, creación de cuadernos y selección de fuentes\n▸ Víctor Castellanos y Natalia Eguíluz – Técnicos de innovación de CTME \n\n11:00h Notebook LM Studio: crea esquemas\, podcast\, vídeos\, etc\n▸ Víctor Castellanos y Natalia Eguíluz – Técnicos de innovación de CTME \n\n11:40h Taller de casos de uso y creación de contenidos útiles (adaptado a los negocios participantes)\n▸ Víctor Castellanos y Natalia Eguíluz – Técnicos de innovación de CTME \n\n12:20h Cierre de la jornada y preguntas
URL:https://acelerapymedigital.es/evento/notebook-lm-para-tu-negocio-aprende-a-usar-la-ia-gratuita-de-google
LOCATION:FAE Miranda\, Avda. Comuneros de Castilla\, 4 - Ofi. D\, Miranda de Ebro\, Burgos\, Castilla y León\, 09200
ATTACH;FMTTYPE=image/jpeg:https://acelerapymedigital.es/wp-content/uploads/2026/03/OAP-3-Post-Web-4.jpg
ORGANIZER;CN="OAP FAE Burgos":MAILTO:oap@faeburgos.org
END:VEVENT
BEGIN:VEVENT
DTSTART;TZID=Europe/Madrid:20260409T100000
DTEND;TZID=Europe/Madrid:20260409T113000
DTSTAMP:20260421T104328
CREATED:20260330T074433Z
LAST-MODIFIED:20260410T065728Z
UID:9852-1775728800-1775734200@acelerapymedigital.es
SUMMARY:De la idea al negocio: claves\, herramientas y recursos para emprender
DESCRIPTION:Realizada ya la jornada\, te dejamos aquí la grabación para que puedas revisar sus contenidos. \nY si tienes cualquier duda\, no olvides que puedes contactar con la Oficina Acelera Pyme de FAE escribiéndonos a oap@faeburgos.org\, llamándonos al 947 266 142 o visitándonos en la Casa del Empresario\, plaza Castilla\, 1 Burgos. \n  \n💡 Emprender es mucho más que tener una buena idea. Supone tomar decisiones\, entender bien los primeros pasos\, apoyarse en herramientas útiles\, conocer los recursos disponibles y construir un plan de negocio que sea realmente viable. \n📚 Este webinar tiene como objetivo ayudar a emprendedores\, autónomos\, pymes en sus primeras fases y jóvenes con inquietud emprendedora a entender mejor qué necesitan para empezar\, qué recursos tienen a su alcance y qué decisiones conviene tomar desde el principio. \n🛠️ A lo largo de la sesión abordaremos los primeros pasos para emprender\, las herramientas que pueden ayudarte a ordenar\, analizar y dar forma a tu propuesta\, los apoyos y ayudas disponibles\, y también algunos aspectos clave de la Ley de Startups que conviene conocer si estás pensando en poner en marcha un proyecto. \n📊 Además\, pondremos el foco en una de las piezas más importantes de cualquier iniciativa empresarial: el plan de negocio. Cómo plantearlo\, qué errores evitar y por qué sigue siendo una herramienta esencial para aterrizar ideas\, medir su viabilidad y tomar mejores decisiones. \n📍 Por último\, veremos también experiencias y casos reales de Burgos\, ejemplos cercanos que permiten comprobar que detrás de cada proyecto que avanza hay reflexión\, análisis\, acompañamiento\, aprendizaje y una importante capacidad de adaptación. \n✨ Porque emprender con ilusión es importante\, pero hacerlo con criterio\, planificación y buenos recursos ayuda a impulsar un proyecto. \n\n10:00 –   Bienvenida a los asistentes\nMarcos Nieto – OAP FAE BURGOS \n\n10:05 – ¿Qué necesito para emprender?: primeros pasos y herramientas útiles \n▸Natalia Eguiluz y Víctor Castellano – Técnicos de Innovación del CTME \n\n10:25 – Ayudas\, recursos y acompañamiento para emprender (recursos y agentes de apoyo) \n▸Natalia Eguiluz y Víctor Castellano – Técnicos de Innovación del CTME \n\n10:50 – La Ley de Startups: aspectos que conocer para emprender \n▸Natalia Eguiluz y Víctor Castellano – Técnicos de Innovación del CTME \n\n11:05 – Plan de negocio realista: Dudas y errores al crear tu plan de negocio \n▸Sara Peña – Técnica de Autoempleo de Fundación San Lesmes \n\n11:20 – Convierte tu idea en un modelo de negocio: experiencias y casos de éxito en Burgos \n▸Sara Peña – Técnica de Autoempleo de Fundación San Lesmes \n▸Natalia Eguiluz y Víctor Castellano – Técnicos de Innovación del CTME \n\n11:25 – Cierre de la jornada y preguntas
URL:https://acelerapymedigital.es/evento/de-la-idea-al-negocio-claves-herramientas-y-recursos-para-emprender
LOCATION:Castilla y León
ATTACH;FMTTYPE=image/jpeg:https://acelerapymedigital.es/wp-content/uploads/2026/03/OAP-3-Post-Web-5.jpg
ORGANIZER;CN="OAP FAE Burgos":MAILTO:oap@faeburgos.org
END:VEVENT
BEGIN:VEVENT
DTSTART;TZID=Europe/Madrid:20260415T100000
DTEND;TZID=Europe/Madrid:20260415T120000
DTSTAMP:20260421T104328
CREATED:20260401T113523Z
LAST-MODIFIED:20260416T070730Z
UID:9899-1776247200-1776254400@acelerapymedigital.es
SUMMARY:Soluciones digitales para la planificación horaria en residencias
DESCRIPTION:La planificación horaria es una tarea compleja de gestionar en cualquier negocio\, pero en el caso de una residencia supone coordinar equipos\, cubrir correctamente las necesidades del servicio\, gestionar cambios\, responder a imprevistos y garantizar que la atención se preste con la continuidad y la calidad que requiere un entorno tan sensible como este 🕒 \nPor eso\, hemos preparado esta jornada sobre herramientas de planificación horaria\, pensada para ayudar a las residencias a conocer soluciones que puedan facilitar esta tarea y hacerla un poco más fluida 💡 \nDurante la sesión presentaremos distintas opciones prácticas adaptadas a diferentes niveles de digitalización 💻. Veremos desde una plantilla específica de apoyo a la planificación\, una herramienta como Shiftool\, orientada a la gestión de turnos\, y una solución más completa como Control Laboral\, que permite integrar la planificación horaria dentro de una gestión más amplia del tiempo y del personal. \nLa jornada tiene como objetivo identificar qué puede aportar cada herramienta\, qué diferencias existen entre unas y otras y qué aspectos conviene tener en cuenta para elegir la opción más adecuada según la realidad de cada residencia 🎯 \n\n10:00h Bienvenida a los asistentes\n▸Marcos Nieto – Técnico OAP FAE BURGOS \n\n10:10h La planificación horaria en residencias: contexto\, retos y necesidades del sector\n▸Marcos Nieto – Técnico OAP FAE BURGOS \n\n10:30h Plantilla de apoyo a la planificación horaria: una solución práctica y accesible\n▸Marcos Nieto – Técnico OAP FAE BURGOS \n\n10:55h Herramienta digital para la gestión de turnos Shiftool\n▸Marcos Nieto – Técnico OAP FAE BURGOS \n\n11:15h Plataforma de registro horario: Control Laboral\n▸Marcos Nieto – Técnico OAP FAE BURGOS \n\n11:40h Qué aporta cada solución y cómo elegir la más adecuada según tus necesidades\n▸Marcos Nieto – Técnico OAP FAE BURGOS \n\n11:50h Cierre de la jornada y preguntas
URL:https://acelerapymedigital.es/evento/soluciones-digitales-para-la-planificacion-horaria-en-residencias
LOCATION:FAE Burgos\, Plaza Castilla\, 1\,\, Burgos\, Castilla y León\, 09003
ATTACH;FMTTYPE=image/jpeg:https://acelerapymedigital.es/wp-content/uploads/2026/04/TALLER-PRESENCIAL-12.jpg
ORGANIZER;CN="OAP FAE Burgos":MAILTO:oap@faeburgos.org
END:VEVENT
BEGIN:VEVENT
DTSTART;TZID=Europe/Madrid:20260428T100000
DTEND;TZID=Europe/Madrid:20260428T123000
DTSTAMP:20260421T104328
CREATED:20260401T101254Z
LAST-MODIFIED:20260401T101254Z
UID:9892-1777370400-1777379400@acelerapymedigital.es
SUMMARY:Haz que tus redes sociales transmitan mejor tu negocio
DESCRIPTION:Tus redes sociales hablan de tu empresa incluso cuando no estás vendiendo. 💡 Hablan de tu imagen\, de tu estilo\, de tu profesionalidad y de la forma en la que conectas con tus clientes. \nHoy ya no basta con publicar por estar presente. En un entorno digital cada vez más competitivo\, lo importante es saber qué comunicar\, cómo hacerlo y qué formato encaja mejor con tu negocio. 🚀 \nEn esta sesión abordaremos las claves que están marcando actualmente la creación de contenido en redes sociales: los formatos con mayor visibilidad\, los tipos de publicaciones que pueden aportar más valor según cada actividad y los aspectos que influyen en la calidad final del contenido. 📱 \nTambién hablaremos del papel que juegan elementos como el móvil\, el sonido\, la iluminación o la edición\, y de cómo pequeños detalles en la presentación\, la estructura o el estilo pueden mejorar la percepción de marca. 🎥✨ \nAdemás\, pondremos el foco en una cuestión fundamental: la planificación. 🗂️ Porque la diferencia entre publicar sin rumbo o utilizar las redes sociales como una herramienta útil para tu negocio\, está en contar con una estrategia más ordenada\, coherente y profesional. \nUna sesión pensada para pymes\, autónomos y profesionales que quieran entender mejor cómo enfocar su contenido en redes sociales y cómo reforzar su comunicación digital. \n\n10:00h Bienvenida a los asistentes\n▸Marcos Nieto – Técnico OAP FAE BURGOS \n\n10:10h Tipos de contenidos: reels\, stories\, fotos\, carrusel\, …\n▸Víctor Castellanos y Natalia Eguíluz – Técnicos de innovación de CTME \n\n10:30h Material para grabar vídeo: móvil o cámara\, micrófonos para mejorar los audios\, iluminación y programas de edición.\n▸Laura Oviedo – Docente y community manager \n\n11:00h Claves para preparar un vídeo: espacio\, tomas y guion\n▸Laura Oviedo – Docente y community manager \n\n11:30h Tips para creación de contenido (cambios de plano\, sonidos\, tipografías\, música en tendencia\,…)\n▸Laura Oviedo – Docente y community manager \n\n12:20h Cierre de la jornada y preguntas \nInscríbete
URL:https://acelerapymedigital.es/evento/haz-que-tus-redes-sociales-transmitan-mejor-tu-negocio
LOCATION:FAE Miranda\, Avda. Comuneros de Castilla\, 4 - Ofi. D\, Miranda de Ebro\, Burgos\, Castilla y León\, 09200
ATTACH;FMTTYPE=image/jpeg:https://acelerapymedigital.es/wp-content/uploads/2026/03/TALLER-PRESENCIAL-9.jpg
ORGANIZER;CN="OAP FAE Burgos":MAILTO:oap@faeburgos.org
END:VEVENT
BEGIN:VEVENT
DTSTART;TZID=Europe/Madrid:20260430T100000
DTEND;TZID=Europe/Madrid:20260430T120000
DTSTAMP:20260421T104329
CREATED:20260401T113744Z
LAST-MODIFIED:20260420T115415Z
UID:9902-1777543200-1777550400@acelerapymedigital.es
SUMMARY:Impulsa tu perfil profesional con las plataformas de Canva y LinkedIn
DESCRIPTION:Hoy\, contar con un buen CV y un perfil profesional cuidado en LinkedIn: es una parte clave de tu carta de presentación en el entorno laboral✅ \nSin embargo\, muchas personas siguen teniendo dificultades a la hora de presentar su trayectoria de forma clara\, atractiva y profesional. En algunos casos\, el currículum no refleja realmente su valor; en otros\, LinkedIn está incompleto\, desactualizado o directamente sin utilizar. \n👉Si te identificas con alguna de estas situaciones: \nEste taller presencial está pensado para ayudarte a dar esos pasos y mejorar la forma en la que te presentas en el ámbito profesional. \nA lo largo de la sesión abordaremos la importancia de cuidar el perfil profesional como carta de presentación\, veremos cómo redactar un CV claro\, atractivo y adaptado a cada objetivo\, y compartiremos consejos prácticos para utilizar Canva como apoyo en el diseño de currículums más visuales. \nAdemás\, trabajaremos LinkedIn desde cero\, explicando cómo crear y optimizar un perfil profesional\, qué aspectos conviene completar y cuidar\, y cuáles son los primeros pasos para empezar a generar una red de contactos útil y coherente con tus objetivos. \nAprender a presentar mejor tu experiencia\, tus capacidades y tu perfil profesional puede marcar una gran diferencia a la hora de acceder a nuevas oportunidades laborales💡 \n\n10:00h Bienvenida a los asistentes\n▸Marcos Nieto y Beatriz del Río – Técnico OAP FAE y Técnica de Empleo en FAE \n\n10:10h La importancia de cuidar el perfil profesional: tu carta de presentación en entornos profesionales\n▸Beatriz de Río – Técnica Empleo FAE BURGOS \n\n10:20h Cómo redactar un CV claro\, atractivo y adaptado a cada objetivo profesional\n▸Beatriz de Río – Técnica Empleo FAE BURGOS \n\n10:55h Canva: consejos y plantillas para diseñar un CV más visual\n▸Beatriz de Río – Técnica Empleo FAE BURGOS \n\n11:15h LinkedIn desde cero: cómo crear y optimizar tu perfil profesional\n▸Marcos Nieto – Técnico OAP FAE BURGOS \n\n11:35h Primeros pasos para construir una red de contactos\n▸Marcos Nieto – Técnico OAP FAE BURGOS \n\n11:50h Cierre de la jornada y preguntas \nInscríbete
URL:https://acelerapymedigital.es/evento/impulsa-tu-perfil-profesional-con-canva-y-linkedin
LOCATION:FAE Burgos\, Plaza Castilla\, 1\,\, Burgos\, Castilla y León\, 09003
ATTACH;FMTTYPE=image/jpeg:https://acelerapymedigital.es/wp-content/uploads/2026/04/TALLER-PRESENCIAL-13.jpg
ORGANIZER;CN="OAP FAE Burgos":MAILTO:oap@faeburgos.org
END:VEVENT
END:VCALENDAR