BEGIN:VCALENDAR
VERSION:2.0
PRODID:-//OAP FAE Burgos - ECPv6.15.20//NONSGML v1.0//EN
CALSCALE:GREGORIAN
METHOD:PUBLISH
X-WR-CALNAME:OAP FAE Burgos
X-ORIGINAL-URL:https://acelerapymedigital.es
X-WR-CALDESC:Eventos para OAP FAE Burgos
REFRESH-INTERVAL;VALUE=DURATION:PT1H
X-Robots-Tag:noindex
X-PUBLISHED-TTL:PT1H
BEGIN:VTIMEZONE
TZID:Europe/Madrid
BEGIN:DAYLIGHT
TZOFFSETFROM:+0100
TZOFFSETTO:+0200
TZNAME:CEST
DTSTART:20250330T010000
END:DAYLIGHT
BEGIN:STANDARD
TZOFFSETFROM:+0200
TZOFFSETTO:+0100
TZNAME:CET
DTSTART:20251026T010000
END:STANDARD
BEGIN:DAYLIGHT
TZOFFSETFROM:+0100
TZOFFSETTO:+0200
TZNAME:CEST
DTSTART:20260329T010000
END:DAYLIGHT
BEGIN:STANDARD
TZOFFSETFROM:+0200
TZOFFSETTO:+0100
TZNAME:CET
DTSTART:20261025T010000
END:STANDARD
BEGIN:DAYLIGHT
TZOFFSETFROM:+0100
TZOFFSETTO:+0200
TZNAME:CEST
DTSTART:20270328T010000
END:DAYLIGHT
BEGIN:STANDARD
TZOFFSETFROM:+0200
TZOFFSETTO:+0100
TZNAME:CET
DTSTART:20271031T010000
END:STANDARD
END:VTIMEZONE
BEGIN:VEVENT
DTSTART;TZID=Europe/Madrid:20260203T100000
DTEND;TZID=Europe/Madrid:20260203T113000
DTSTAMP:20260421T104018
CREATED:20260122T151833Z
LAST-MODIFIED:20260330T105038Z
UID:9607-1770112800-1770118200@acelerapymedigital.es
SUMMARY:Jornada Inaugural Oficina Acelera Pyme de FAE
DESCRIPTION:Realizada ya la jornada\, te dejamos aquí la presentación para que puedas revisar sus contenidos. \nY si tienes cualquier duda\, no olvides que puedes contactar con la Oficina Acelera Pyme de FAE escribiéndonos a oap@faeburgos.org\, llamándonos al 947 266 142 o visitándonos en la Casa del Empresario\, plaza Castilla\, 1 Burgos. \nVídeo de la jornada FAE inaugurará una nueva edición de su Oficina Acelera Pyme\, consolidando un programa de apoyo gratuito que acompaña a pymes\, autónomos y emprendedores en su transformación digital\, reforzando recursos\, líneas de actuación y cobertura provincial. \nLa jornada contará con la participación de Bjaland Technologies\, empresa asociada a FAE e integrada en ABETIC\, galardonada con el Premio FAE Innovación 2025\, que impartirá una master class práctica centrada en cómo alinear la estrategia de transformación digital con el negocio\, integrando la tecnología de forma eficaz en la organización\, los procesos y las personas. \nLa Oficina Acelera Pyme es un proyecto impulsado por Red.es\, entidad pública adscrita al Ministerio para la Transformación Digital y de la Función Pública\, y financiado por los Fondos Europeos de Desarrollo Regional (FEDER). Su objetivo es facilitar la adopción de tecnologías digitales y soluciones innovadoras que permitan mejorar la eficiencia\, optimizar procesos internos y reforzar la competitividad empresarial. \nPara ello\, la OAP de FAE pone a disposición de las empresas\, de forma totalmente gratuita\, los siguientes servicios:\n\n• Asesoramiento personalizado en digitalización\, presencial y online.\n• Jornadas de sensibilización\, talleres prácticos y seminarios especializados.\n• Jornadas sectoriales y de networking a través de los Tech-Days.\n• Acompañamiento en la identificación de ayudas públicas en digitalización.\n• Diagnósticos de madurez digital y planes de implementación adaptados.\n• Tutorías digitales e información sobre proveedores tecnológicos de la provincia.\n•Acceso a su espacio virtual en acelerapymedigital.es\, con agenda\, recursos\, atención online y contenidos prácticos. \nEn definitiva\, la Oficina Acelera Pyme de FAE se consolida como un punto de referencia en la provincia para que cualquier empresa\, autónomo o emprendedor encuentre orientación\, soluciones y apoyo real en su camino hacia la transformación digital. \n\n10:00h – 10:10h Bienvenida y apertura de la jornada\n▸Nacho San Millán – Presidente de FAE \n\n10:10h – 10:30h Inauguración Institucional\n▸Jesús Herrero – Director General de Red.es \n\n10:30h – 10:50h Programa Acelera Pyme y Novedades\n▸Jimena Pérez – Directora de FAE\n▸Juan José García – Director de Fundación CTME \n\n10:55h – 11:30h Ponencia: Bjaland Technologies\n▸Fco. Javier Sancho – CEO Bjaland Technologies\n▸Cristina López – Responsable Innovación Bjaland Technologies \n\n11:30h Cierre de jornada y Café Networking
URL:https://acelerapymedigital.es/evento/jornada-inaugural-oficina-acelera-pyme-de-fae
LOCATION:FAE Burgos\, Plaza Castilla\, 1\,\, Burgos\, Castilla y León\, 09003
ATTACH;FMTTYPE=image/jpeg:https://acelerapymedigital.es/wp-content/uploads/2026/01/Jornada-de-inauguracion-OAP-3.jpg
ORGANIZER;CN="OAP FAE Burgos":MAILTO:oap@faeburgos.org
END:VEVENT
BEGIN:VEVENT
DTSTART;TZID=Europe/Madrid:20260211T100000
DTEND;TZID=Europe/Madrid:20260211T123000
DTSTAMP:20260421T104018
CREATED:20260204T213635Z
LAST-MODIFIED:20260216T175552Z
UID:9685-1770804000-1770813000@acelerapymedigital.es
SUMMARY:Taller Microsoft 365 y Zoho One: ahorra tiempo y conecta equipos
DESCRIPTION:Realizada ya la jornada\, te dejamos aquí la presentación para que puedas revisar sus contenidos. \nY si tienes cualquier duda\, no olvides que puedes contactar con la Oficina Acelera Pyme de FAE escribiéndonos a oap@faeburgos.org\, llamándonos al 947 266 142 o visitándonos en la Casa del Empresario\, plaza Castilla\, 1 Burgos. \nEl trabajo ya no depende de un único espacio físico. Equipos en remoto\, documentos compartidos y comunicación continua forman parte del día a día de pymes\, autónomos y emprendedores. En este escenario\, gestionar la empresa mediante una oficina virtual clara y bien organizada es una decisión estratégica\, no solo tecnológica. \n💡Este modelo de trabajo permite:\n• Centralizar documentos\, comunicación y trabajo en equipo.\n• Facilitar el trabajo remoto e híbrido sin perder control.\n• Mejorar la colaboración y la productividad.\n• Reforzar la seguridad de la información.\n• Reducir costes al evitar múltiples herramientas independientes.\n• Trabajar con movilidad total desde móvil o tablet.\n• Mantener una visión global del negocio\, incluso en remoto. \n👉 En este taller se explicará\, de forma práctica y sencilla\, cómo funciona una oficina virtual bien estructurada a través de dos ecosistemas digitales: Microsoft 365\, una solución consolidada\, y Zoho One\, una plataforma innovadora e integrada.\n________________________________________\nMicrosoft 365: es más que Word\, Excel y PowerPoint\, es un ecosistema conectado:\n• Guardar y compartir documentos en la nube (OneDrive y SharePoint).\n• Acceder a la información desde cualquier dispositivo.\n• Trabajar sobre los mismos documentos en tiempo real.\n• Centralizar la comunicación con Outlook y Teams.\n• Trabajar siempre con versiones actualizadas.\n• Mejorar la productividad y la coordinación del equipo.\n• Proteger la información de forma segura.\n________________________________________\nZoho One: todo el negocio en una sola plataforma\, diversidad de aplicaciones para que todas las áreas del negocio trabajen sobre la misma información:\n• Comunicación interna y reuniones con Zoho Cliq y Zoho Meeting.\n• Colaboración y productividad con Writer\, Sheet y Show.\n• Gestión documental con Zoho WorkDrive.\n• Relación con clientes y comunicación externa con Forms\, Survey y Backstage.\n• Gestión de redes sociales desde una única herramienta con Zoho Social.\n• Control de accesos y seguridad desde el panel central de Zoho One.\n• Automatización de procesos con Zoho Flow. \n⏩ Durante el taller se mostrarán ejemplos prácticos y reales\, explicando cómo empezar por lo esencial y sacar partido a estas herramientas sin complicaciones ni conocimientos técnicos. \n\n10:00h Bienvenida y apertura de la jornada\n▸Marcos Nieto – Técnico OAP FAE BURGOS \n\n10:10h Oficina en la nube: OneDrive\, SharePoint y almacenamiento seguro\n▸Pedro Sañudo– Ingeniero informático de CTME\n▸Víctor Castellanos y Natalia Eguíluz – Técnicos de innovación de CTME \n\n10:35h Comunicación empresarial con Teams y Outlook\n▸Víctor Castellanos y Natalia Eguíluz – Técnicos de innovación de CTME \n\n11:00h Espacio de trabajo virtual seguro y práctico\n▸Pedro Sañudo– Ingeniero informático de CTME\n▸Víctor Castellanos y Natalia Eguíluz – Técnicos de innovación de CTME \n\n11:20h Caso de éxito: Implemantación de Microsoft 365 en CTME\n▸Pedro Sañudo– Ingeniero informático de CTME\n▸Víctor Castellanos y Natalia Eguíluz – Técnicos de innovación de CTME \n\n11:30h Zoho One: una plataforma única para centralizar procesos empresariales\n▸Marcos Nieto – Oficina Acelera Pyme FAE BURGOS \n• Aplicaciones de productividad y gestión documental – Zoho Workdrive.\n• Comunicación y colaboración – Zoho Cliq\, Zoho Mail\, Zoho Meeting.\n• Relación con clientes – Zoho Forms\, Survey y Backstage.\n• Automatización de flujos de tareas – Zoho Flow.\n• Gestión de redes sociales – Zoho Social.\n• Seguridad y permisos panel – Zoho One. \n\n12:20h Dudas y preguntas
URL:https://acelerapymedigital.es/evento/taller-microsoft-365-y-zoho-one-ahorra-tiempo-y-conecta-equipos
LOCATION:FAE Burgos\, Plaza Castilla\, 1\,\, Burgos\, Castilla y León\, 09003
ATTACH;FMTTYPE=image/jpeg:https://acelerapymedigital.es/wp-content/uploads/2026/02/Foto-taller-1.jpg
ORGANIZER;CN="OAP FAE Burgos":MAILTO:oap@faeburgos.org
END:VEVENT
BEGIN:VEVENT
DTSTART;TZID=Europe/Madrid:20260219T093000
DTEND;TZID=Europe/Madrid:20260219T110000
DTSTAMP:20260421T104018
CREATED:20260202T171644Z
LAST-MODIFIED:20260220T075138Z
UID:9676-1771493400-1771498800@acelerapymedigital.es
SUMMARY:Webinar: digitaliza tu negocio con un plan claro y realista
DESCRIPTION:Realizada ya la jornada\, te dejamos aquí la grabación para que puedas revisar sus contenidos. \nY si tienes cualquier duda\, no olvides que puedes contactar con la Oficina Acelera Pyme de FAE escribiéndonos a oap@faeburgos.org\, llamándonos al 947 266 142 o visitándonos en la Casa del Empresario\, plaza Castilla\, 1 Burgos. \n  \n💡¿Te hablan de digitalización\, pero no tienes claro por dónde empezar en tu negocio? \nEs más habitual de lo que parece. Muchas pymes\, autónomos y emprendedores saben que tienen que mejorar sus procesos\, ahorrar tiempo o apoyarse en la tecnología\, pero no cuentan con una hoja de ruta clara para hacerlo bien. \n🤖Digitalizar no va de implantar herramientas porque ni de hacer grandes inversiones. Va de entender en qué punto está tu empresa\, detectar qué se puede mejorar y avanzar paso a paso\, con criterio y con un plan adaptado a tu realidad. \n🎯Durante el webinar descubrirás: \n• Qué es un plan de digitalización y para qué sirve realmente\n• Cómo un diagnóstico digital puede ayudarte a tomar mejores decisiones\n• Cómo empezar a implantar mejoras sin complicarte\n• En qué consiste el servicio gratuito de consultoría digital que ofrecen FAE y el CTME \nUn webinar con un único objetivo: ayudarte a dar el primer paso hacia la digitalización con seguridad y sentido común. \n👉 Si quieres saber dónde está hoy tu negocio y cómo empezar avanzar en la digitalización del mismo\, inscríbete en este webinar. \n\n09:30 Bienvenida a los asistentes \n[Marcos Nieto Angulo – OAP de FAE]\n\n09:40 Qué es un plan de digitalización y para qué sirve. \n[Inmaculada Sanz – Responsable de Innovación de CTME]\n\n10:00 El diagnóstico digital estratégico como punto de partida \n[Víctor Castellanos y Natalia Eguíluz – Técnicos de Innovación de CTME]\n\n10:25 Implementación de un plan de transformación digital: herramientas\, proveedores tecnológicos y ayudas \n[Víctor Castellanos y Natalia Eguíluz – Técnicos de Innovación de CTME]\n\n10:45 Errores frecuentes y buenas prácticas en el proceso de Transformación Digital \n[Víctor Castellanos y Natalia Eguíluz – Técnicos de Innovación de CTME]\n\n10:50 Preguntas y cierre de la jornada
URL:https://acelerapymedigital.es/evento/webinar-digitaliza-tu-negocio-con-un-plan-claro-realista
LOCATION:Castilla y León
ATTACH;FMTTYPE=image/jpeg:https://acelerapymedigital.es/wp-content/uploads/2026/02/Foto-taller.jpg
ORGANIZER;CN="OAP FAE Burgos":MAILTO:oap@faeburgos.org
END:VEVENT
BEGIN:VEVENT
DTSTART;TZID=Europe/Madrid:20260220T093000
DTEND;TZID=Europe/Madrid:20260220T103000
DTSTAMP:20260421T104018
CREATED:20260206T133447Z
LAST-MODIFIED:20260305T134336Z
UID:9697-1771579800-1771583400@acelerapymedigital.es
SUMMARY:Webinar IA cibersegura para Pymes
DESCRIPTION:Realizada ya la jornada\, te dejamos aquí la grabación para que puedas revisar sus contenidos. \nY si tienes cualquier duda\, no olvides que puedes contactar con la Oficina Acelera Pyme de FAE escribiéndonos a oap@faeburgos.org\, llamándonos al 947 266 142 o visitándonos en la Casa del Empresario\, plaza Castilla\, 1 Burgos. \n  \n💡La inteligencia artificial ya forma parte del día a día de muchas pymes. \nHoy existen herramientas capaces de automatizar tareas\, analizar información\, generar contenidos o apoyar la toma de decisiones\, accesibles para cualquier negocio\, independientemente de su tamaño o sector. \n🤖El verdadero reto ya no está en acceder a la tecnología\, sino en saber cómo utilizarla de forma práctica\, segura y adaptada a la realidad de cada empresa. Por este motivo\, muchas pymes siguen planteándose la misma pregunta:​ \n👉¿Cómo aplicar realmente la inteligencia artificial en mi negocio y hacerlo con garantías?  \nPara dar respuesta a esta necesidad real del tejido empresarial\, organizamos el viernes 20 de febrero un webinar gratuito de una hora\, en colaboración con CEEI Burgos\, centrado en el uso práctico de la IA generativa en pymes y microempresas\, con un enfoque claro\, aplicable y alineado con la ciberseguridad. 🎯 \n📌Contenidos del webinar:  \nA lo largo de la sesión se abordarán\, entre otros\, los siguientes aspectos: \n• El ABC de la inteligencia artificial explicado para pymes.\n• Mitos y realidades: qué puede hacer (y qué no) la IA en una empresa.\n• Casos reales y ejemplos prácticos aplicables a pymes y microempresas.\n• Beneficios concretos según el sector y tipo de actividad.\n• Cómo implantar soluciones de IA paso a paso en un negocio.\n• Aspectos clave de ciberseguridad que no se pueden pasar por alto.\n• Recursos\, ayudas y servicios de INCIBE y CEEI Burgos. \n✅El objetivo final es que las personas asistentes adquieran una visión clara\, realista y aplicable de cómo la inteligencia artificial puede integrarse en su día a día profesional y contribuir a mejorar la eficiencia y competitividad de su empresa. \n\n09:30 – Bienvenida a los asistentes OAP de FAE\nMarcos Nieto – Oficina Acelera Pyme FAE BURGOS \n\n09:40 – El ABC de la IA explicado para pymes y sus mitos\nRaquel Carrera. Mentora en digitalización \n\n09:50 – Casos reales y ejemplos prácticos aplicables\nRaquel Carrera. Mentora en digitalización \n\n10:05 – Cómo implantar soluciones de IA paso a paso en un negocio.\nRaquel Carrera. Mentora en digitalización \n\n10:15 – Aspectos clave de ciberseguridad.\nLuis Aguilar Sinde. Mentor de Ciberseguridad. \n\n10:25 – Recursos\, ayudas y servicios de INCIBE y CEEI Burgos\nLuis Aguilar Sinde. Mentor de Ciberseguridad. \n\n10:30 – Cierre de la jornada y preguntas
URL:https://acelerapymedigital.es/evento/webinar-ia-cibersegura-para-pymes
LOCATION:Castilla y León
ATTACH;FMTTYPE=image/jpeg:https://acelerapymedigital.es/wp-content/uploads/2026/02/OAP-3-Post-Webinar-05.02.2026-16.jpg
ORGANIZER;CN="OAP FAE Burgos":MAILTO:oap@faeburgos.org
END:VEVENT
BEGIN:VEVENT
DTSTART;TZID=Europe/Madrid:20260226T100000
DTEND;TZID=Europe/Madrid:20260226T123000
DTSTAMP:20260421T104018
CREATED:20260213T081320Z
LAST-MODIFIED:20260227T122044Z
UID:9711-1772100000-1772109000@acelerapymedigital.es
SUMMARY:Aprende a crear contenido en redes sociales que conecte con tus clientes
DESCRIPTION:Realizada ya la jornada\, te dejamos aquí la presentación para que puedas revisar sus contenidos. \nY si tienes cualquier duda\, no olvides que puedes contactar con la Oficina Acelera Pyme de FAE escribiéndonos a oap@faeburgos.org\, llamándonos al 947 266 142 o visitándonos en la Casa del Empresario\, plaza Castilla\, 1 Burgos. \nMuchas pymes y profesionales están hoy en día en redes sociales\, pero pocas tienen una estrategia clara de contenido. En 2026\, el entorno digital exige contenido planificado\, profesional y adaptado al público. La visibilidad orgánica depende cada vez más del vídeo corto\, del formato vertical y de la capacidad de conectar de forma auténtica. \n💡Hoy el consumidor investiga antes de comprar\, las redes sociales son un escaparate digital. Si el contenido transmite profesionalidad\, el negocio gana posicionamiento\, si transmite improvisación\, pierde competitividad. Profesionalizar la comunicación digital ya no es opcional\, es una ventaja estratégica par aun negocio o un profesional. \n👉En este taller veremos de la mano de Laura Oviedo-Community Manager: \n◇ Tipos de contenido: reels\, stories\, fotos\, carruseles…\nEl vídeo corto domina la visibilidad orgánica. Pero no todos los formatos sirven para todos los negocios.\n• Un comercio local puede utilizar reels para mostrar novedades.\n• Una empresa industrial puede emplear carruseles para explicar procesos.\n• Un profesional independiente puede apoyarse en stories para humanizar su marca. \n◇ Material para grabar vídeo: móvil\, micrófonos\, iluminación y edición\nUn móvil actual\, un micrófono adecuado y una iluminación correcta pueden transformar completamente el resultado. \n◇ Preparación de vídeos: planificación\, tomas y guiones\nPlanificar el mensaje\, preparar el espacio y definir las tomas no solo mejora la claridad\, sino que transmite profesionalidad. Un vídeo estructurado:\n• Retiene más atención.\n• Mejora el alcance.\n• Refuerza la imagen de marca. \n◇ Tips prácticos de creación de contenido\nCambios de plano\, uso estratégico del sonido\, elección de tipografías\, música en tendencia…pequeños detalles que generan un gran impacto en la percepción de marca. \n⏩ La diferencia entre “estar en redes” y “hacer que las redes trabajen para tu negocio” está en la estrategia. \n\n10:00h Bienvenida a los asistentes\n▸Marcos Nieto – Técnico OAP FAE BURGOS \n\n10:10h Tipos de contenidos: reels\, stories\, fotos\, carrusel\, …\n▸Víctor Castellanos y Natalia Eguíluz – Técnicos de innovación de CTME \n\n10:30h Material para grabar vídeo: móvil o cámara\, micrófonos para mejorar los audios\, iluminación y programas de edición.\n▸Laura Oviedo – Docente y community manager \n\n11:00h Preparación de vídeos: planificación del espacio\, tomas\, guiones.\n▸Laura Oviedo – Docente y community manager \n\n11:30h Tips para creación de contenido (cambios de plano\, sonidos\, tipografías\, música en tendencia\,…)\n▸Laura Oviedo – Docente y community manager \n\n12:20h Cierre de la jornada y preguntas
URL:https://acelerapymedigital.es/evento/taller-aprende-a-crear-contenido-en-redes-sociales-que-conecte-con-tus-clientes
LOCATION:FAE Burgos\, Plaza Castilla\, 1\,\, Burgos\, Castilla y León\, 09003
ATTACH;FMTTYPE=image/jpeg:https://acelerapymedigital.es/wp-content/uploads/2026/02/TALLER-PRESENCIAL-3.jpg
ORGANIZER;CN="OAP FAE Burgos":MAILTO:oap@faeburgos.org
END:VEVENT
END:VCALENDAR